BEGIN:VCALENDAR
VERSION:2.0
PRODID:spatie/icalendar-generator
NAME:Klimaschutz und Klimatools: Erfahrungen aus der Praxis [Suisse Tier 20
 25]
X-WR-CALNAME:Klimaschutz und Klimatools: Erfahrungen aus der Praxis [Suisse
  Tier 2025]
BEGIN:VTIMEZONE
TZID:Europe/Zurich
BEGIN:DAYLIGHT
DTSTART:20250330T020000
TZOFFSETFROM:+0100
TZOFFSETTO:+0200
END:DAYLIGHT
BEGIN:STANDARD
DTSTART:20251026T030000
TZOFFSETFROM:+0200
TZOFFSETTO:+0100
END:STANDARD
BEGIN:DAYLIGHT
DTSTART:20260329T020000
TZOFFSETFROM:+0100
TZOFFSETTO:+0200
END:DAYLIGHT
END:VTIMEZONE
BEGIN:VTIMEZONE
TZID:UTC
BEGIN:STANDARD
DTSTART:20250725T091630
TZOFFSETFROM:+0000
TZOFFSETTO:+0000
END:STANDARD
END:VTIMEZONE
BEGIN:VEVENT
UID:69e7406edac2e
DTSTAMP:20260421T091630Z
DTSTART;TZID=Europe/Zurich:20251121T133000
DTEND;TZID=Europe/Zurich:20251121T140000
SUMMARY:Klimaschutz und Klimatools: Erfahrungen aus der Praxis [Suisse Tier
  2025]
DESCRIPTION:https://www.suissetier.ch/de/e/klimaschutz-und-klimatools-erfah
 rungen-aus-der-praxis.70613\n\nKlimatools sind wichtige Werkzeuge\, um bet
 riebliche Treibhausgasreduktionspotentiale zu identifizieren und Klimaschu
 tzbemühungen zu unterstützen. Zudem bieten sie wichtige Grundlagen\, um 
 den geleisteten Mehrwert sichtbar zu machen und gegebenenfalls in Wert zu 
 setzen.
LOCATION:Halle 2
END:VEVENT
END:VCALENDAR